BEGIN:VCALENDAR
VERSION:2.0
PRODID:-//Archdiocese of Baltimore - ECPv5.16.3.1//NONSGML v1.0//EN
CALSCALE:GREGORIAN
METHOD:PUBLISH
X-ORIGINAL-URL:https://www.archbalt.org
X-WR-CALDESC:Events for Archdiocese of Baltimore
REFRESH-INTERVAL;VALUE=DURATION:PT1H
X-Robots-Tag:noindex
X-PUBLISHED-TTL:PT1H
BEGIN:VTIMEZONE
TZID:America/New_York
BEGIN:DAYLIGHT
TZOFFSETFROM:-0500
TZOFFSETTO:-0400
TZNAME:EDT
DTSTART:20260308T070000
END:DAYLIGHT
BEGIN:STANDARD
TZOFFSETFROM:-0400
TZOFFSETTO:-0500
TZNAME:EST
DTSTART:20261101T060000
END:STANDARD
END:VTIMEZONE
BEGIN:VEVENT
DTSTART;TZID=America/New_York:20260509T083000
DTEND;TZID=America/New_York:20260509T160000
DTSTAMP:20260425T175202
CREATED:20260410T174400Z
LAST-MODIFIED:20260410T174400Z
UID:204452-1778315400-1778342400@www.archbalt.org
SUMMARY:Chosen: A Retreat for Young Women
DESCRIPTION:All girls in grades 8-12 are welcome to join us for talks from different types of vocations\, food\, games\, Mass\, adoration\, crafts\, and more!
URL:https://www.archbalt.org/event/chosen-a-retreat-for-young-women/
LOCATION:St. Mary of the Mills\, 114 St. Mary's Place\, Laurel\, MD\, 20707\, United States
CATEGORIES:Adoration,Retreat,Vocations,Women
ATTACH;FMTTYPE=image/png:https://www.archbalt.org/wp-content/uploads/2026/04/Chosen-Retreat-2026-registration_-002.png
END:VEVENT
END:VCALENDAR