BEGIN:VCALENDAR
VERSION:2.0
PRODID:-//Archdiocese of Baltimore - ECPv5.16.3.1//NONSGML v1.0//EN
CALSCALE:GREGORIAN
METHOD:PUBLISH
X-ORIGINAL-URL:https://www.archbalt.org
X-WR-CALDESC:Events for Archdiocese of Baltimore
REFRESH-INTERVAL;VALUE=DURATION:PT1H
X-Robots-Tag:noindex
X-PUBLISHED-TTL:PT1H
BEGIN:VTIMEZONE
TZID:America/New_York
BEGIN:DAYLIGHT
TZOFFSETFROM:-0500
TZOFFSETTO:-0400
TZNAME:EDT
DTSTART:20210314T070000
END:DAYLIGHT
BEGIN:STANDARD
TZOFFSETFROM:-0400
TZOFFSETTO:-0500
TZNAME:EST
DTSTART:20211107T060000
END:STANDARD
BEGIN:DAYLIGHT
TZOFFSETFROM:-0500
TZOFFSETTO:-0400
TZNAME:EDT
DTSTART:20220313T070000
END:DAYLIGHT
BEGIN:STANDARD
TZOFFSETFROM:-0400
TZOFFSETTO:-0500
TZNAME:EST
DTSTART:20221106T060000
END:STANDARD
BEGIN:DAYLIGHT
TZOFFSETFROM:-0500
TZOFFSETTO:-0400
TZNAME:EDT
DTSTART:20230312T070000
END:DAYLIGHT
BEGIN:STANDARD
TZOFFSETFROM:-0400
TZOFFSETTO:-0500
TZNAME:EST
DTSTART:20231105T060000
END:STANDARD
BEGIN:DAYLIGHT
TZOFFSETFROM:-0500
TZOFFSETTO:-0400
TZNAME:EDT
DTSTART:20240310T070000
END:DAYLIGHT
BEGIN:STANDARD
TZOFFSETFROM:-0400
TZOFFSETTO:-0500
TZNAME:EST
DTSTART:20241103T060000
END:STANDARD
BEGIN:DAYLIGHT
TZOFFSETFROM:-0500
TZOFFSETTO:-0400
TZNAME:EDT
DTSTART:20250309T070000
END:DAYLIGHT
BEGIN:STANDARD
TZOFFSETFROM:-0400
TZOFFSETTO:-0500
TZNAME:EST
DTSTART:20251102T060000
END:STANDARD
BEGIN:DAYLIGHT
TZOFFSETFROM:-0500
TZOFFSETTO:-0400
TZNAME:EDT
DTSTART:20260308T070000
END:DAYLIGHT
BEGIN:STANDARD
TZOFFSETFROM:-0400
TZOFFSETTO:-0500
TZNAME:EST
DTSTART:20261101T060000
END:STANDARD
END:VTIMEZONE
BEGIN:VEVENT
DTSTART;TZID=America/New_York:20260418T083000
DTEND;TZID=America/New_York:20260418T120000
DTSTAMP:20260421T135408
CREATED:20260410T183739Z
LAST-MODIFIED:20260415T162920Z
UID:204455-1776501000-1776513600@www.archbalt.org
SUMMARY:Sharing the Faith with Kimberly Hahn Retreat at the Seton Shrine
DESCRIPTION:Renowned Catholic speaker and author\, Kimberly Hahn will lead Sharing the Faith a half day retreat at the National Shrine of Saint Elizabeth Ann Seton in Emmitsburg\, Maryland. Mass will start at 9 a.m. followed by a talk on Making a Home for the Word and a presentation on How to be a Contagious Catholic: Being a Missionary Disciple. Register at setonshrine.org/retreats or call 301-447-6606.
URL:https://www.archbalt.org/event/sharing-the-faith-with-kimberly-hahn-retreat-at-the-seton-shrine/
LOCATION:The National Shrine of St. Elizabeth Ann Seton\, 339 S Seton Ave\, Emmitsburg\, MD\, 21727\, United States
CATEGORIES:Faith,Mass,Speaker
ATTACH;FMTTYPE=image/jpeg:https://www.archbalt.org/wp-content/uploads/2026/04/KimberlyHahnretreat_flyer.pdf-scaled.jpg
END:VEVENT
BEGIN:VEVENT
DTSTART;TZID=America/New_York:20260322T154500
DTEND;TZID=America/New_York:20260322T154500
DTSTAMP:20260421T135408
CREATED:20260218T142025Z
LAST-MODIFIED:20260218T142025Z
UID:203128-1774194300-1774194300@www.archbalt.org
SUMMARY:Latin Language\, Lyrics & Liturgy in Lent
DESCRIPTION:Latin Language\, Lyrics & Liturgy in Lent \nEver wondered about the Mass parts we sing in Latin during Lent\, what “tantum ergo” really means\, or what Latin’s relationship is to the Catholic Church and Liturgy? Or perhaps you have wanted to learn how to say some prayers or chant in Latin? \nPlease join us at 3:45 p.m. on Sundays in Lent in the Emmaus Room at St. Agnes Church for a discussion of the Latin language and its role in the Catholic Church and Liturgy. Dr. John J. Jefferson has a PhD in Late Medieval studies and has worked with Latin for decades\, to include the translation of Latin historical works into English. \nMarch 22: Latin and the liturgy (Fr. Maximillian Jaskowiak)
URL:https://www.archbalt.org/event/latin-language-lyrics-liturgy-in-lent-5/
LOCATION:St. Agnes Church\, 5422 Old Frederick Road\, Baltimore\, MD\, 21229\, United States
CATEGORIES:Lent,Speaker
ATTACH;FMTTYPE=image/png:https://www.archbalt.org/wp-content/uploads/2026/02/Latin-Language-Series-1-e1771423765881.png
END:VEVENT
BEGIN:VEVENT
DTSTART;TZID=America/New_York:20210407T123000
DTEND;TZID=America/New_York:20210407T133000
DTSTAMP:20260421T135408
CREATED:20210302T150756Z
LAST-MODIFIED:20210302T150756Z
UID:156066-1617798600-1617802200@www.archbalt.org
SUMMARY:Webinars on Flannery O’Connor and race
DESCRIPTION:Loyola University Maryland will host a series of virtual conversations\, “Public Writing/Private Perceptions: The Vexed Issues Surrounding Flannery O’Connor and Race\,” this spring. \nThe 30-minute online moderated conversations will be held via Zoom and feature scholars who will delve into Flannery O’Connor’s legacy as a writer. They will consider how scholars will continue to study and teach her work; what legacy O’Connor leaves behind; what we can learn from her work; and what lessons students can learn through this sort of thoughtful discourse. \nThe virtual conversations are all free and open to the public\, but registration is required. \n\nMarch 10: A Conversation with Hilton Als\nMarch 24: A Conversation with Alice McDermott\, COMloquium with the Karson Institute for Race\, Peace & Social Justice\nApril 7: A Conversation with Brad Gooch
URL:https://www.archbalt.org/event/webinars-on-flannery-oconnor-and-race-2021-04-07/
LOCATION:Online Event
CATEGORIES:Community,History,Lecture,Online Event,Panel,Seminar,Social Justice,Speaker
ATTACH;FMTTYPE=image/jpeg:https://www.archbalt.org/wp-content/uploads/2021/03/AP959388431947.jpg
END:VEVENT
BEGIN:VEVENT
DTSTART;TZID=America/New_York:20210324T123000
DTEND;TZID=America/New_York:20210324T133000
DTSTAMP:20260421T135408
CREATED:20210302T150756Z
LAST-MODIFIED:20210302T150756Z
UID:156065-1616589000-1616592600@www.archbalt.org
SUMMARY:Webinars on Flannery O’Connor and race
DESCRIPTION:Loyola University Maryland will host a series of virtual conversations\, “Public Writing/Private Perceptions: The Vexed Issues Surrounding Flannery O’Connor and Race\,” this spring. \nThe 30-minute online moderated conversations will be held via Zoom and feature scholars who will delve into Flannery O’Connor’s legacy as a writer. They will consider how scholars will continue to study and teach her work; what legacy O’Connor leaves behind; what we can learn from her work; and what lessons students can learn through this sort of thoughtful discourse. \nThe virtual conversations are all free and open to the public\, but registration is required. \n\nMarch 10: A Conversation with Hilton Als\nMarch 24: A Conversation with Alice McDermott\, COMloquium with the Karson Institute for Race\, Peace & Social Justice\nApril 7: A Conversation with Brad Gooch
URL:https://www.archbalt.org/event/webinars-on-flannery-oconnor-and-race-2021-03-24/
LOCATION:Online Event
CATEGORIES:Community,History,Lecture,Online Event,Panel,Seminar,Social Justice,Speaker
ATTACH;FMTTYPE=image/jpeg:https://www.archbalt.org/wp-content/uploads/2021/03/AP959388431947.jpg
END:VEVENT
BEGIN:VEVENT
DTSTART;TZID=America/New_York:20210321T200000
DTEND;TZID=America/New_York:20210321T210000
DTSTAMP:20260421T135408
CREATED:20210302T151216Z
LAST-MODIFIED:20210302T151216Z
UID:156070-1616356800-1616360400@www.archbalt.org
SUMMARY:Virtual Lenten retreat
DESCRIPTION:Join Ralph Martin on four consecutive Sundays in Lent for a live online Lenten Mission on inspiring wisdom from the greatest spiritual teachers in the Church – saints such as Therese of Lisieux\, Catherine of Siena\, John of the Cross\, Francis de Sales\, Teresa of Avila\, and more – drawing from his book The Fulfillment of All Desire .
URL:https://www.archbalt.org/event/virtual-lenten-retreat-2021-03-21/
LOCATION:Online Event
CATEGORIES:#IamCatholic,Community,Faith,Lecture,Lent,Online Event,Panel,Religious,Retreat,Seminar,Speaker
ATTACH;FMTTYPE=image/jpeg:https://www.archbalt.org/wp-content/uploads/2020/01/retreat-stock.jpg
END:VEVENT
BEGIN:VEVENT
DTSTART;TZID=America/New_York:20210314T200000
DTEND;TZID=America/New_York:20210314T210000
DTSTAMP:20260421T135408
CREATED:20210302T151216Z
LAST-MODIFIED:20210302T151216Z
UID:156069-1615752000-1615755600@www.archbalt.org
SUMMARY:Virtual Lenten retreat
DESCRIPTION:Join Ralph Martin on four consecutive Sundays in Lent for a live online Lenten Mission on inspiring wisdom from the greatest spiritual teachers in the Church – saints such as Therese of Lisieux\, Catherine of Siena\, John of the Cross\, Francis de Sales\, Teresa of Avila\, and more – drawing from his book The Fulfillment of All Desire .
URL:https://www.archbalt.org/event/virtual-lenten-retreat-2021-03-14/
LOCATION:Online Event
CATEGORIES:#IamCatholic,Community,Faith,Lecture,Lent,Online Event,Panel,Religious,Retreat,Seminar,Speaker
ATTACH;FMTTYPE=image/jpeg:https://www.archbalt.org/wp-content/uploads/2020/01/retreat-stock.jpg
END:VEVENT
BEGIN:VEVENT
DTSTART;TZID=America/New_York:20210310T123000
DTEND;TZID=America/New_York:20210310T133000
DTSTAMP:20260421T135408
CREATED:20210302T150756Z
LAST-MODIFIED:20210302T150756Z
UID:156062-1615379400-1615383000@www.archbalt.org
SUMMARY:Webinars on Flannery O’Connor and race
DESCRIPTION:Loyola University Maryland will host a series of virtual conversations\, “Public Writing/Private Perceptions: The Vexed Issues Surrounding Flannery O’Connor and Race\,” this spring. \nThe 30-minute online moderated conversations will be held via Zoom and feature scholars who will delve into Flannery O’Connor’s legacy as a writer. They will consider how scholars will continue to study and teach her work; what legacy O’Connor leaves behind; what we can learn from her work; and what lessons students can learn through this sort of thoughtful discourse. \nThe virtual conversations are all free and open to the public\, but registration is required. \n\nMarch 10: A Conversation with Hilton Als\nMarch 24: A Conversation with Alice McDermott\, COMloquium with the Karson Institute for Race\, Peace & Social Justice\nApril 7: A Conversation with Brad Gooch
URL:https://www.archbalt.org/event/webinars-on-flannery-oconnor-and-race/
LOCATION:Online Event
CATEGORIES:Community,History,Lecture,Online Event,Panel,Seminar,Social Justice,Speaker
ATTACH;FMTTYPE=image/jpeg:https://www.archbalt.org/wp-content/uploads/2021/03/AP959388431947.jpg
END:VEVENT
BEGIN:VEVENT
DTSTART;TZID=America/New_York:20210307T200000
DTEND;TZID=America/New_York:20210307T210000
DTSTAMP:20260421T135408
CREATED:20210302T151216Z
LAST-MODIFIED:20210302T151216Z
UID:156067-1615147200-1615150800@www.archbalt.org
SUMMARY:Virtual Lenten retreat
DESCRIPTION:Join Ralph Martin on four consecutive Sundays in Lent for a live online Lenten Mission on inspiring wisdom from the greatest spiritual teachers in the Church – saints such as Therese of Lisieux\, Catherine of Siena\, John of the Cross\, Francis de Sales\, Teresa of Avila\, and more – drawing from his book The Fulfillment of All Desire .
URL:https://www.archbalt.org/event/virtual-lenten-retreat/
LOCATION:Online Event
CATEGORIES:#IamCatholic,Community,Faith,Lecture,Lent,Online Event,Panel,Religious,Retreat,Seminar,Speaker
ATTACH;FMTTYPE=image/jpeg:https://www.archbalt.org/wp-content/uploads/2020/01/retreat-stock.jpg
END:VEVENT
END:VCALENDAR