BEGIN:VCALENDAR
VERSION:2.0
PRODID:-//Archdiocese of Baltimore - ECPv5.16.3.1//NONSGML v1.0//EN
CALSCALE:GREGORIAN
METHOD:PUBLISH
X-ORIGINAL-URL:https://www.archbalt.org
X-WR-CALDESC:Events for Archdiocese of Baltimore
REFRESH-INTERVAL;VALUE=DURATION:PT1H
X-Robots-Tag:noindex
X-PUBLISHED-TTL:PT1H
BEGIN:VTIMEZONE
TZID:America/New_York
BEGIN:DAYLIGHT
TZOFFSETFROM:-0500
TZOFFSETTO:-0400
TZNAME:EDT
DTSTART:20260308T070000
END:DAYLIGHT
BEGIN:STANDARD
TZOFFSETFROM:-0400
TZOFFSETTO:-0500
TZNAME:EST
DTSTART:20261101T060000
END:STANDARD
END:VTIMEZONE
BEGIN:VEVENT
DTSTART;TZID=America/New_York:20260725T160000
DTEND;TZID=America/New_York:20260801T130000
DTSTAMP:20260425T093414
CREATED:20260323T202239Z
LAST-MODIFIED:20260323T202239Z
UID:204020-1784995200-1785589200@www.archbalt.org
SUMMARY:8-Day Ignatian Retreat
DESCRIPTION:The Ignatian Directed Retreat is designed to deepen your relationship with God. Check-in begins at 4 p.m.\, and the retreat will begin with an orientation session at 5pm. The retreat will end after lunch on Saturday.
URL:https://www.archbalt.org/event/8-day-ignatian-retreat/
LOCATION:Bon Secours Retreat & Conference Center\, 1525 Marriottsville Rd\,\, Marriottsville\, MD\, 21104\, United States
CATEGORIES:Retreat
ATTACH;FMTTYPE=image/jpeg:https://www.archbalt.org/wp-content/uploads/2026/03/flower-in-full-bloom-e1645190808551.jpg
ORGANIZER;CN="Bon%20Secours%20Retreat%20%26amp%3B%20Conference%20Center":MAILTO:info.rcc@bonsecoursrcc.org
END:VEVENT
BEGIN:VEVENT
DTSTART;TZID=America/New_York:20260807T160000
DTEND;TZID=America/New_York:20260809T113000
DTSTAMP:20260425T093414
CREATED:20260323T202034Z
LAST-MODIFIED:20260323T202034Z
UID:204022-1786118400-1786275000@www.archbalt.org
SUMMARY:Retreat for Couples
DESCRIPTION:Robert and Lori Fontana\, relationship educators\, return to Bon Secours to help couples discover the amazing gift of married love (even if that love has been frayed a bit). The retreat begins with The Marriage Jackpot Date Night on Friday evening\, where you will meet Murphy the Marriage Salesman\, do the “how well do you know your spouse” quiz\, sing old love songs\, meet other couples\, and enjoy great snacks and spirits. The retreat continues into Saturday and Sunday\, building on the insights and fun from Friday night. Check-in begins at 4 pm. There will be a brief welcome session at 5:30 pm\, followed by dinner at 6pm. The retreat begins after dinner at 7 pm on Friday and concludes before lunch on Sunday. Mass will be available Sunday morning for those who wish to attend. The price of $570 is per couple.
URL:https://www.archbalt.org/event/retreat-for-couples/
LOCATION:Bon Secours Retreat & Conference Center\, 1525 Marriottsville Rd\,\, Marriottsville\, MD\, 21104\, United States
CATEGORIES:Retreat
ATTACH;FMTTYPE=image/jpeg:https://www.archbalt.org/wp-content/uploads/2026/03/valentines-hearts-e1631116746592.jpg
ORGANIZER;CN="Bon%20Secours%20Retreat%20%26amp%3B%20Conference%20Center":MAILTO:info.rcc@bonsecoursrcc.org
END:VEVENT
BEGIN:VEVENT
DTSTART;TZID=America/New_York:20260809T160000
DTEND;TZID=America/New_York:20260815T113000
DTSTAMP:20260425T093414
CREATED:20260323T201845Z
LAST-MODIFIED:20260323T201845Z
UID:204024-1786291200-1786793400@www.archbalt.org
SUMMARY:Silent Directed Retreat
DESCRIPTION:An individually directed retreat focuses on the way God is active in the individual’s life\, and each retreat follows a uniquely personal path. Retreatants meet with a spiritual director once a day to reflect on God’s presence and movement in their life as revealed in prayer\, the events and relationships in their life\, and the response to God that is being made.  Mass will be available throughout the week. This is a silent retreat. Check-in begins at 4pm\, and the retreat will begin with an orientation session at 5pm. Silence will begin after dinner. The retreat ends before lunch on Saturday.
URL:https://www.archbalt.org/event/silent-directed-retreat/
LOCATION:Bon Secours Retreat & Conference Center\, 1525 Marriottsville Rd\,\, Marriottsville\, MD\, 21104\, United States
CATEGORIES:Retreat
ATTACH;FMTTYPE=image/jpeg:https://www.archbalt.org/wp-content/uploads/2026/03/tim-cooper-RmLSBjS5diE-unsplash-scaled-e1692728128962.jpg
ORGANIZER;CN="Bon%20Secours%20Retreat%20%26amp%3B%20Conference%20Center":MAILTO:info.rcc@bonsecoursrcc.org
END:VEVENT
BEGIN:VEVENT
DTSTART;TZID=America/New_York:20260827T093000
DTEND;TZID=America/New_York:20260827T160000
DTSTAMP:20260425T093414
CREATED:20260423T144232Z
LAST-MODIFIED:20260423T144232Z
UID:204749-1787823000-1787846400@www.archbalt.org
SUMMARY:Day Retreat - Growing Old for Heaven’s Sake
DESCRIPTION:Exploring Spiritualities of Aging \nThe path of holiness challenges us to be honest\, vulnerable\, and faithful. No matter the season of life we are in\, we search for God — even in our doubts\, fears\, and disappointments. We desire to integrate our burdens and blessings into a holy prayer that brings us face-to-face with our loving and merciful God. Join us for a day of reflection as we explore the spiritualities of aging. Lunch is included. Guided by Sr. Sara Dwyer.
URL:https://www.archbalt.org/event/day-retreat-growing-old-for-heavens-sake/
LOCATION:Bon Secours Retreat & Conference Center\, 1525 Marriottsville Rd\,\, Marriottsville\, MD\, 21104\, United States
CATEGORIES:Retreat
ATTACH;FMTTYPE=image/jpeg:https://www.archbalt.org/wp-content/uploads/2026/04/dandelion-mindfulness-e1692626324340.jpg
ORGANIZER;CN="Bon%20Secours%20Retreat%20%26amp%3B%20Conference%20Center":MAILTO:info.rcc@bonsecoursrcc.org
END:VEVENT
BEGIN:VEVENT
DTSTART;TZID=America/New_York:20260828T160000
DTEND;TZID=America/New_York:20260903T130000
DTSTAMP:20260425T093414
CREATED:20260423T144503Z
LAST-MODIFIED:20260423T144503Z
UID:204753-1787932800-1788440400@www.archbalt.org
SUMMARY:6-Night Retreat - A Kaleidoscope of Holiness
DESCRIPTION:Seeking an Authentic Spirituality \nOur stories reveal the beauty of light and darkness\, loves and losses\, laughter and tears. As we journey through all of this\, we desire a life-giving spirituality that is both sustaining and contemplative\, as well as attitudes\, beliefs\, and practices that will help us explore our true selves more consciously and deeply. During this six-night retreat\, we will have generous amounts of time to reflect with guides who have narrated their own experiences\, including Parker Palmer\, Richard Rohr\, Joan Chittister\, Pope Francis\, Walter Brueggemann\, Joyce Rupp\, Maya Angelou\, and other spiritual writers. Join us to ponder\, probe\, practice\, and pray in the quiet of your heart and with your God. Guided by Sr. Sara Dwyer.
URL:https://www.archbalt.org/event/6-night-retreat-a-kaleidoscope-of-holiness/
LOCATION:Bon Secours Retreat & Conference Center\, 1525 Marriottsville Rd\,\, Marriottsville\, MD\, 21104\, United States
CATEGORIES:Retreat
ATTACH;FMTTYPE=image/jpeg:https://www.archbalt.org/wp-content/uploads/2026/04/st-isaacs-cathedral-gfb4a427bd_640-e1679077748129-496x349-1.jpg
ORGANIZER;CN="Bon%20Secours%20Retreat%20%26amp%3B%20Conference%20Center":MAILTO:info.rcc@bonsecoursrcc.org
END:VEVENT
END:VCALENDAR