BEGIN:VCALENDAR
VERSION:2.0
PRODID:-//Archdiocese of Baltimore - ECPv5.16.3.1//NONSGML v1.0//EN
CALSCALE:GREGORIAN
METHOD:PUBLISH
X-ORIGINAL-URL:https://www.archbalt.org
X-WR-CALDESC:Events for Archdiocese of Baltimore
REFRESH-INTERVAL;VALUE=DURATION:PT1H
X-Robots-Tag:noindex
X-PUBLISHED-TTL:PT1H
BEGIN:VTIMEZONE
TZID:America/New_York
BEGIN:DAYLIGHT
TZOFFSETFROM:-0500
TZOFFSETTO:-0400
TZNAME:EDT
DTSTART:20260308T070000
END:DAYLIGHT
BEGIN:STANDARD
TZOFFSETFROM:-0400
TZOFFSETTO:-0500
TZNAME:EST
DTSTART:20261101T060000
END:STANDARD
BEGIN:DAYLIGHT
TZOFFSETFROM:-0500
TZOFFSETTO:-0400
TZNAME:EDT
DTSTART:20270314T070000
END:DAYLIGHT
BEGIN:STANDARD
TZOFFSETFROM:-0400
TZOFFSETTO:-0500
TZNAME:EST
DTSTART:20271107T060000
END:STANDARD
END:VTIMEZONE
BEGIN:VEVENT
DTSTART;TZID=America/New_York:20260502T110000
DTEND;TZID=America/New_York:20260502T113000
DTSTAMP:20260422T175834
CREATED:20260308T232755Z
LAST-MODIFIED:20260308T232755Z
UID:203580-1777719600-1777721400@www.archbalt.org
SUMMARY:First Saturday Rosary with Meditations for People with Mental Illness
DESCRIPTION:At 11AM EST on the first Saturday of each month\, we will pray the Rosary using Meditations for People with Mental Illness. These meditations are from the Association of Catholic Mental Health Ministers found here: https://catholicmhm.org/rosary-mental-health. We will pray a different mystery each month. May 2nd we will pray the Glorious Mysteries of the Rosary. Send an email to SJEMHAEvent@gmail.com if you would like the link to join us or just go to the event website to get the link.
URL:https://www.archbalt.org/event/first-saturday-rosary-with-meditations-for-people-with-mental-illness/
LOCATION:Online Event
CATEGORIES:Mental Health,Prayer,Religious
ATTACH;FMTTYPE=image/jpeg:https://www.archbalt.org/wp-content/uploads/2026/03/Rosary-picture-scaled-e1773012421467.jpg
ORGANIZER;CN="Mental%20Health%20Awareness%20Ministry":MAILTO:sjemhaevents@gmail.com
END:VEVENT
BEGIN:VEVENT
DTSTART;TZID=America/New_York:20260509T110000
DTEND;TZID=America/New_York:20260509T130000
DTSTAMP:20260422T175834
CREATED:20260304T193140Z
LAST-MODIFIED:20260304T193630Z
UID:203490-1778324400-1778331600@www.archbalt.org
SUMMARY:Saint Dymphna Prayer Group
DESCRIPTION:Have you ever wondered whether poor mental health is a sign of weak faith\, or wanted to hear the Church’s position on medication? In this session\, you will examine the complexity of mental health and engage with some of the tough questions that Catholics ask when faced with mental illness. \nAt 11AM we will gather and pray from our booklet of prayers. After which we will watch a 20 minute video about Mental Illness followed by lunch supplied by the St. John the Evangelist Mental Health Awareness team. RSVP: SJEMHAEvents@gmail.com. \nWe will meet in the Parish Office Great Room at St. John the Evangelist in Severna Park. \nNote: The film references suicidal thoughts.
URL:https://www.archbalt.org/event/saint-dymphna-prayer-group/
LOCATION:St. John the Evangelist\, Severna Park\, 689 Ritchie Hwy.\, Severna Park\, 21146\, United States
CATEGORIES:Mental Health,Prayer
ATTACH;FMTTYPE=image/png:https://www.archbalt.org/wp-content/uploads/2026/03/Saint-Dymphna-picture-e1772652645753.png
ORGANIZER;CN="Mental%20Health%20Awareness%20Ministry":MAILTO:sjemhaevents@gmail.com
END:VEVENT
BEGIN:VEVENT
DTSTART;TZID=America/New_York:20260515T090000
DTEND;TZID=America/New_York:20260515T160000
DTSTAMP:20260422T175834
CREATED:20260417T145053Z
LAST-MODIFIED:20260417T145053Z
UID:204598-1778835600-1778860800@www.archbalt.org
SUMMARY:Day of Hope & Healing Retreat
DESCRIPTION:Project Rachel Healing Resources \nIf you or someone you know is suffering after abortion involvement\, confidential and non-judgmental help is available from our Project Rachel ministry. \nUpcoming retreats: May 15 and August 7 \nNeed support? \nprojectrachel@archbalt.org \n410-6258491(call) \n410-299-9345 (text)
URL:https://www.archbalt.org/event/day-of-hope-healing-retreat/
LOCATION:Ellicott City
CATEGORIES:Adoration,Faith,Men,Prayer,Retreat,Women
ATTACH;FMTTYPE=image/png:https://www.archbalt.org/wp-content/uploads/2026/04/Project-Rachel-2026-Day-events.png
END:VEVENT
BEGIN:VEVENT
DTSTART;TZID=America/New_York:20260526T200000
DTEND;TZID=America/New_York:20260526T210000
DTSTAMP:20260422T175834
CREATED:20251229T212955Z
LAST-MODIFIED:20251229T212955Z
UID:202023-1779825600-1779829200@www.archbalt.org
SUMMARY:Young Adult Evening Prayer - School Sisters of Notre Dame
DESCRIPTION:Young adults ages 18-45 are invited to pray online together with members of the North American Vocation Team\, other sisters and young adults from across the U.S. and Canada\, on Tuesday\, May 26 from 8-9 p.m. Eastern Time via Zoom. \nExperience evening prayer in the gentle rhythm of the Liturgy of the Hours (psalms\, scripture and intercessions)\, with time for faith sharing in breakout groups. \nPlease register in advance for the Zoom link here. For questions\, please contact sisters@ssnd.org.
URL:https://www.archbalt.org/event/young-adult-evening-prayer-school-sisters-of-notre-dame-5/
LOCATION:Online Event
CATEGORIES:Online Event,Prayer,Young Adult
ATTACH;FMTTYPE=image/jpeg:https://www.archbalt.org/wp-content/uploads/2025/12/SSND-Evening-Prayer-e1767040386420.jpg
END:VEVENT
BEGIN:VEVENT
DTSTART;TZID=America/New_York:20260606T110000
DTEND;TZID=America/New_York:20260606T113000
DTSTAMP:20260422T175834
CREATED:20260409T193025Z
LAST-MODIFIED:20260409T193955Z
UID:204391-1780743600-1780745400@www.archbalt.org
SUMMARY:First Saturday Rosary with Meditations for People with Mental Illness
DESCRIPTION:At 11AM EST on the first Saturday of each month\, we will pray the Rosary using Meditations for People with Mental Illness. These meditations are from the Association of Catholic Mental Health Ministers found here: https://catholicmhm.org/rosary-mental-health. We will pray a different mystery each month. Send an email to SJEMHAEvent@gmail.com if you would like the link to join us or just go to the event website to get the link.
URL:https://www.archbalt.org/event/first-saturday-rosary-with-meditations-for-people-with-mental-illness-2/
LOCATION:Online
CATEGORIES:Mental Health,Prayer,Religious
ATTACH;FMTTYPE=image/jpeg:https://www.archbalt.org/wp-content/uploads/2026/04/Rosary-picture-2-scaled.jpg
ORGANIZER;CN="Mental%20Health%20Awareness%20Ministry":MAILTO:sjemhaevents@gmail.com
END:VEVENT
BEGIN:VEVENT
DTSTART;TZID=America/New_York:20260622T080000
DTEND;TZID=America/New_York:20260624T160000
DTSTAMP:20260422T175834
CREATED:20260413T175206Z
LAST-MODIFIED:20260413T175726Z
UID:204488-1782115200-1782316800@www.archbalt.org
SUMMARY:Middle School Summer Day Camp
DESCRIPTION:June 22nd–24th (8:00 AM – 4:00 PM each day\, lunch provided) For rising 6th through 8th graders. \nWe will focus on the seven key themes of Catholic Social Teaching through prayer\, Scripture\, adventure\, and team/community-building activities. For more information\, please email Nathan McVey at nathan.mcvey@archbalt.org. Webpage and registration form: https://msgrodwyer.org/summer-camp
URL:https://www.archbalt.org/event/middle-school-summer-day-camp/
LOCATION:O’Dwyer Retreat Center\, 15523 York Road\, Sparks\, Maryland\, 21152
CATEGORIES:Children,Faith,Prayer
END:VEVENT
BEGIN:VEVENT
DTSTART;TZID=America/New_York:20260623T200000
DTEND;TZID=America/New_York:20260623T210000
DTSTAMP:20260422T175834
CREATED:20251229T213301Z
LAST-MODIFIED:20251229T213301Z
UID:202025-1782244800-1782248400@www.archbalt.org
SUMMARY:Young Adult Evening Prayer - School Sisters of Notre Dame
DESCRIPTION:Young adults ages 18-45 are invited to pray online together with members of the North American Vocation Team\, other sisters and young adults from across the U.S. and Canada\, on Tuesday\, June 23 from 8-9 p.m. via Zoom. \nExperience evening prayer in the gentle rhythm of the Liturgy of the Hours (psalms\, scripture and intercessions)\, with time for faith sharing in breakout groups. \nPlease register in advance for the Zoom link here. For questions\, please contact sisters@ssnd.org.
URL:https://www.archbalt.org/event/young-adult-evening-prayer-school-sisters-of-notre-dame-6/
LOCATION:Online Event
CATEGORIES:Online Event,Prayer,Young Adult
ATTACH;FMTTYPE=image/jpeg:https://www.archbalt.org/wp-content/uploads/2025/12/SSND-Evening-Prayer-e1767040386420.jpg
END:VEVENT
BEGIN:VEVENT
DTSTART;TZID=America/New_York:20260727T080000
DTEND;TZID=America/New_York:20260731T160000
DTSTAMP:20260422T175834
CREATED:20260413T181824Z
LAST-MODIFIED:20260413T181824Z
UID:204494-1785139200-1785513600@www.archbalt.org
SUMMARY:High School Summer Day Camp
DESCRIPTION:July 27th–31st (8:00 AM – 4:00 PM each day\, lunch provided) For rising 9th through 12th graders. \nWe will focus on the seven key themes of Catholic Social Teaching through prayer\, Scripture\, adventure\, and team/community-building activities. For more information\, please email Nathan McVey at nathan.mcvey@archbalt.org. Webpage and registration form: https://msgrodwyer.org/summer-camp
URL:https://www.archbalt.org/event/high-school-summer-day-camp/
LOCATION:O’Dwyer Retreat Center\, 15523 York Road\, Sparks\, Maryland\, 21152
CATEGORIES:Children,Faith,Prayer
END:VEVENT
BEGIN:VEVENT
DTSTART;TZID=America/New_York:20260801T110000
DTEND;TZID=America/New_York:20260801T113000
DTSTAMP:20260422T175834
CREATED:20260409T195012Z
LAST-MODIFIED:20260409T195012Z
UID:204397-1785582000-1785583800@www.archbalt.org
SUMMARY:First Saturday Rosary with Meditations for People with Mental Illness
DESCRIPTION:At 11AM EST on the first Saturday of each month\, we will pray the Rosary using Meditations for People with Mental Illness. These meditations are from the Association of Catholic Mental Health Ministers found here: https://catholicmhm.org/rosary-mental-health.\nWe will pray a different mystery each month. August 1st we will pray the Luminous Mysteries of the Rosary.\nSend an email to SJEMHAEvent@gmail.com if you would like the link to join us or scroll to the event website to get the link.
URL:https://www.archbalt.org/event/first-saturday-rosary-with-meditations-for-people-with-mental-illness-4/
LOCATION:Online
CATEGORIES:Faith,Mental Health,Prayer
ATTACH;FMTTYPE=image/jpeg:https://www.archbalt.org/wp-content/uploads/2026/04/Rosary-picture-5-scaled.jpg
END:VEVENT
BEGIN:VEVENT
DTSTART;TZID=America/New_York:20261003T110000
DTEND;TZID=America/New_York:20261003T113000
DTSTAMP:20260422T175834
CREATED:20260409T195941Z
LAST-MODIFIED:20260409T195941Z
UID:204401-1791025200-1791027000@www.archbalt.org
SUMMARY:First Saturday Rosary with Meditations for People with Mental Illness
DESCRIPTION:At 11AM EST on the first Saturday of each month\, we will pray the Rosary using Meditations for People with Mental Illness. These meditations are from the Association of Catholic Mental Health Ministers found here: https://catholicmhm.org/rosary-mental-health.\nWe will pray a different mystery each month. October 3rd we will pray the Glorious Mysteries of the Rosary.\nSend an email to SJEMHAEvent@gmail.com if you would like the link to join us or scroll to the event website to get the link.\nBeginning January 2nd\, this Online Rosary will be moved to 10:00 AM.
URL:https://www.archbalt.org/event/first-saturday-rosary-with-meditations-for-people-with-mental-illness-6/
LOCATION:Online
CATEGORIES:Faith,Mental Health,Prayer,Religious
ATTACH;FMTTYPE=image/jpeg:https://www.archbalt.org/wp-content/uploads/2026/04/Rosary-picture-7-scaled.jpg
END:VEVENT
BEGIN:VEVENT
DTSTART;TZID=America/New_York:20261205T110000
DTEND;TZID=America/New_York:20261205T113000
DTSTAMP:20260422T175834
CREATED:20260409T203438Z
LAST-MODIFIED:20260409T203438Z
UID:204407-1796468400-1796470200@www.archbalt.org
SUMMARY:First Saturday Rosary with Meditations for People with Mental Illness
DESCRIPTION:At 11AM EST on the first Saturday of each month\, we will pray the Rosary using Meditations for People with Mental Illness. These meditations are from the Association of Catholic Mental Health Ministers found here: https://catholicmhm.org/rosary-mental-health.\nWe will pray a different mystery each month. December 5th we will pray the Luminous Mysteries of the Rosary.\nSend an email to SJEMHAEvent@gmail.com if you would like the link to join us or scroll to the event website to get the link.\n. . .\nNEW TIME: Beginning January 2nd\, this Online Rosary will be moved to 10:00 AM.
URL:https://www.archbalt.org/event/first-saturday-rosary-with-meditations-for-people-with-mental-illness-8/
LOCATION:Online
CATEGORIES:Faith,Prayer
ATTACH;FMTTYPE=image/jpeg:https://www.archbalt.org/wp-content/uploads/2026/04/Rosary-picture-9-scaled.jpg
ORGANIZER;CN="Mental%20Health%20Awareness%20Ministry":MAILTO:sjemhaevents@gmail.com
END:VEVENT
BEGIN:VEVENT
DTSTART;TZID=America/New_York:20270102T100000
DTEND;TZID=America/New_York:20270102T103000
DTSTAMP:20260422T175834
CREATED:20260409T204818Z
LAST-MODIFIED:20260409T204818Z
UID:204409-1798884000-1798885800@www.archbalt.org
SUMMARY:First Saturday Rosary with Meditations for People with Mental Illness
DESCRIPTION:At 10:00AM EST on the first Saturday of each month\, we will pray the Rosary using Meditations for People with Mental Illness. These meditations are from the Association of Catholic Mental Health Ministers found here: https://catholicmhm.org/rosary-mental-health.\nWe will pray a different mystery each month. January 2nd we will pray the Sorrowful Mysteries of the Rosary at 10:00AM.\nSend an email to SJEMHAEvent@gmail.com if you would like the link to join us or scroll to the event website to get the link.
URL:https://www.archbalt.org/event/first-saturday-rosary-with-meditations-for-people-with-mental-illness-9/
LOCATION:Online
CATEGORIES:Faith,Mental Health,Prayer,Religious
ATTACH;FMTTYPE=image/jpeg:https://www.archbalt.org/wp-content/uploads/2026/04/Rosary-picture-10-scaled.jpg
ORGANIZER;CN="Mental%20Health%20Awareness%20Ministry":MAILTO:sjemhaevents@gmail.com
END:VEVENT
END:VCALENDAR