BEGIN:VCALENDAR
VERSION:2.0
PRODID:-//Archdiocese of Baltimore - ECPv5.16.3.1//NONSGML v1.0//EN
CALSCALE:GREGORIAN
METHOD:PUBLISH
X-WR-CALNAME:Archdiocese of Baltimore
X-ORIGINAL-URL:https://www.archbalt.org
X-WR-CALDESC:Events for Archdiocese of Baltimore
REFRESH-INTERVAL;VALUE=DURATION:PT1H
X-Robots-Tag:noindex
X-PUBLISHED-TTL:PT1H
BEGIN:VTIMEZONE
TZID:America/New_York
BEGIN:DAYLIGHT
TZOFFSETFROM:-0500
TZOFFSETTO:-0400
TZNAME:EDT
DTSTART:20260308T070000
END:DAYLIGHT
BEGIN:STANDARD
TZOFFSETFROM:-0400
TZOFFSETTO:-0500
TZNAME:EST
DTSTART:20261101T060000
END:STANDARD
END:VTIMEZONE
BEGIN:VEVENT
DTSTART;TZID=America/New_York:20260622T080000
DTEND;TZID=America/New_York:20260624T160000
DTSTAMP:20260425T233349
CREATED:20260413T175206Z
LAST-MODIFIED:20260413T175726Z
UID:204488-1782115200-1782316800@www.archbalt.org
SUMMARY:Middle School Summer Day Camp
DESCRIPTION:June 22nd–24th (8:00 AM – 4:00 PM each day\, lunch provided) For rising 6th through 8th graders. \nWe will focus on the seven key themes of Catholic Social Teaching through prayer\, Scripture\, adventure\, and team/community-building activities. For more information\, please email Nathan McVey at nathan.mcvey@archbalt.org. Webpage and registration form: https://msgrodwyer.org/summer-camp
URL:https://www.archbalt.org/event/middle-school-summer-day-camp/
LOCATION:O’Dwyer Retreat Center\, 15523 York Road\, Sparks\, Maryland\, 21152
CATEGORIES:Children,Faith,Prayer
END:VEVENT
END:VCALENDAR