BEGIN:VCALENDAR
VERSION:2.0
PRODID:-//Archdiocese of Baltimore - ECPv5.16.3.1//NONSGML v1.0//EN
CALSCALE:GREGORIAN
METHOD:PUBLISH
X-WR-CALNAME:Archdiocese of Baltimore
X-ORIGINAL-URL:https://www.archbalt.org
X-WR-CALDESC:Events for Archdiocese of Baltimore
REFRESH-INTERVAL;VALUE=DURATION:PT1H
X-Robots-Tag:noindex
X-PUBLISHED-TTL:PT1H
BEGIN:VTIMEZONE
TZID:America/New_York
BEGIN:DAYLIGHT
TZOFFSETFROM:-0500
TZOFFSETTO:-0400
TZNAME:EDT
DTSTART:20200308T070000
END:DAYLIGHT
BEGIN:STANDARD
TZOFFSETFROM:-0400
TZOFFSETTO:-0500
TZNAME:EST
DTSTART:20201101T060000
END:STANDARD
BEGIN:DAYLIGHT
TZOFFSETFROM:-0500
TZOFFSETTO:-0400
TZNAME:EDT
DTSTART:20210314T070000
END:DAYLIGHT
BEGIN:STANDARD
TZOFFSETFROM:-0400
TZOFFSETTO:-0500
TZNAME:EST
DTSTART:20211107T060000
END:STANDARD
BEGIN:DAYLIGHT
TZOFFSETFROM:-0500
TZOFFSETTO:-0400
TZNAME:EDT
DTSTART:20220313T070000
END:DAYLIGHT
BEGIN:STANDARD
TZOFFSETFROM:-0400
TZOFFSETTO:-0500
TZNAME:EST
DTSTART:20221106T060000
END:STANDARD
BEGIN:DAYLIGHT
TZOFFSETFROM:-0500
TZOFFSETTO:-0400
TZNAME:EDT
DTSTART:20230312T070000
END:DAYLIGHT
BEGIN:STANDARD
TZOFFSETFROM:-0400
TZOFFSETTO:-0500
TZNAME:EST
DTSTART:20231105T060000
END:STANDARD
BEGIN:DAYLIGHT
TZOFFSETFROM:-0500
TZOFFSETTO:-0400
TZNAME:EDT
DTSTART:20240310T070000
END:DAYLIGHT
BEGIN:STANDARD
TZOFFSETFROM:-0400
TZOFFSETTO:-0500
TZNAME:EST
DTSTART:20241103T060000
END:STANDARD
BEGIN:DAYLIGHT
TZOFFSETFROM:-0500
TZOFFSETTO:-0400
TZNAME:EDT
DTSTART:20250309T070000
END:DAYLIGHT
BEGIN:STANDARD
TZOFFSETFROM:-0400
TZOFFSETTO:-0500
TZNAME:EST
DTSTART:20251102T060000
END:STANDARD
BEGIN:DAYLIGHT
TZOFFSETFROM:-0500
TZOFFSETTO:-0400
TZNAME:EDT
DTSTART:20260308T070000
END:DAYLIGHT
BEGIN:STANDARD
TZOFFSETFROM:-0400
TZOFFSETTO:-0500
TZNAME:EST
DTSTART:20261101T060000
END:STANDARD
END:VTIMEZONE
BEGIN:VEVENT
DTSTART;TZID=America/New_York:20260411T200000
DTEND;TZID=America/New_York:20260411T220000
DTSTAMP:20260421T102143
CREATED:20260401T135043Z
LAST-MODIFIED:20260401T135043Z
UID:204232-1775937600-1775944800@www.archbalt.org
SUMMARY:Single Adult Ministry Movie Night
DESCRIPTION:Join us for movie night on April 11\, at Our Lady of the Fields Church in Millersville\, in Rooms 203/204 sponsored by the Single Adult Ministry. Come join us to watch “Jesus Christ Superstar.” The movie is a rock opera focusing on the final week of Jesus’ life\, specifically the conflicts between Jesus\, Judas Iscariot\, and Mary Magdalene. Bring a snack and beverage to share. Social time 7—8 p.m. Movie 8—10 p.m. Any questions\, Contact: Jeanne at ministry4singleagain@gmail.com.
URL:https://www.archbalt.org/event/single-adult-ministry-movie-night/
LOCATION:Our Lady the Feilds\, 1070 Cecil Avenue South\, Millersville\, MD\, 21108\, United States
CATEGORIES:Community,Young Adult
END:VEVENT
BEGIN:VEVENT
DTSTART;TZID=America/New_York:20260328T090000
DTEND;TZID=America/New_York:20260328T130000
DTSTAMP:20260421T102143
CREATED:20260308T232128Z
LAST-MODIFIED:20260308T232128Z
UID:203568-1774688400-1774702800@www.archbalt.org
SUMMARY:Young Catholic Professionals - St. Joseph Saturday Retreat
DESCRIPTION:Join YCP Baltimore this Lent for St. Joseph Saturday on March 28th\, from 9:00am-1:00pm at the Baltimore Basilica and Catholic Center. \nSt. Joseph Saturday is a free half-day retreat\, open to the public and encourages young adults to “look upon work with the eyes of faith” and see God’s presence in their vocations and professional lives. \nRetreat will include talks\, small group discussions and time for confessions\, Adoration\, and Mass. Register online today!
URL:https://www.archbalt.org/event/young-catholic-professionals-st-joseph-saturday-retreat/
LOCATION:Baltimore Basilica\, 409 Cathedral St\, Baltimore\, MD\, 21201
CATEGORIES:Community,Prayer,Retreat,Young Adult
ATTACH;FMTTYPE=image/png:https://www.archbalt.org/wp-content/uploads/2026/03/St.-Joseph-Saturday-2026-Retreat-e1773012051265.png
ORGANIZER;CN="Young%20Catholic%20Professionals%20Baltimore":MAILTO:info@ycpbaltimore.org
END:VEVENT
BEGIN:VEVENT
DTSTART;TZID=America/New_York:20260322T120000
DTEND;TZID=America/New_York:20260322T180000
DTSTAMP:20260421T102143
CREATED:20260126T160330Z
LAST-MODIFIED:20260126T160330Z
UID:202570-1774180800-1774202400@www.archbalt.org
SUMMARY:45th Annual CYM Italian Dinner
DESCRIPTION:The Pastorate of St Francis and St Louis invites you to the 45th Annual Catholic Youth Ministry-led Italian Dinner on March 22\, 2026 at St Louis\, Clarksville. This longstanding and beloved tradition is CYM’s biggest fundraiser of the year where our middle and high school youth leadership is front and center of the pastorate and the greater community. Enjoy a full Italian dinner experience with your family\, bid on raffle baskets and 50-50\, and be transported to Italy for a day! Dine in and carry out options. All are welcome!
URL:https://www.archbalt.org/event/45th-annual-cym-italian-dinner/
LOCATION:St. Louis Church\, 12500 Clarksville Pike\, Clarksville\, MD 21029\, Clarksville\, MD\, 21046\, United States
CATEGORIES:Community,Dinner,Family,Food,Fundraiser,Youth Ministry
ATTACH;FMTTYPE=image/png:https://www.archbalt.org/wp-content/uploads/2026/01/2F4C8657-7D34-4F74-8C8B-541A80895EBF-2-e1769443372849.png
ORGANIZER;CN="Pastorate%20of%20St.%20Louis%20and%20St.%20Francis":MAILTO:lpalting@stlouisparish.org
END:VEVENT
BEGIN:VEVENT
DTSTART;TZID=America/New_York:20210725T140000
DTEND;TZID=America/New_York:20210725T180000
DTSTAMP:20260421T102143
CREATED:20210422T144449Z
LAST-MODIFIED:20210505T152815Z
UID:157229-1627221600-1627236000@www.archbalt.org
SUMMARY:Pre-Cana marriage preparation group seminar
DESCRIPTION:St. Francis of Assisi in Baltimore is holding pre-cana marriage preparation seminars. Both sessions are required.  The cost is $100 per couple.  Couples can download a copy of the registration form at https://www.sfabalt.org/\nIf you have questions\, please contact Gina Gross in the SFA Church Office at 410-235-5136. \n 
URL:https://www.archbalt.org/event/pre-cana-marriage-preparation-group-seminar-2021-07-25/
LOCATION:St. Francis of Assisi Baltimore\, 3615 Harford Rd.\, Baltimore\, MD\, 21218\, United States
CATEGORIES:#IamCatholic,Community,Family,Marriage & Family LIfe
ATTACH;FMTTYPE=image/jpeg:https://www.archbalt.org/wp-content/uploads/2020/01/retreat-stock.jpg
ORGANIZER;CN="St.%20Francis%20of%20Assisi%20Baltimore":MAILTO:SFABalt@archbalt.org
END:VEVENT
BEGIN:VEVENT
DTSTART;TZID=America/New_York:20210711T140000
DTEND;TZID=America/New_York:20210711T180000
DTSTAMP:20260421T102143
CREATED:20210422T144449Z
LAST-MODIFIED:20210505T152813Z
UID:157227-1626012000-1626026400@www.archbalt.org
SUMMARY:Pre-Cana marriage preparation group seminar
DESCRIPTION:St. Francis of Assisi in Baltimore is holding pre-cana marriage preparation seminars. Both sessions are required.  The cost is $100 per couple.  Couples can download a copy of the registration form at https://www.sfabalt.org/\nIf you have questions\, please contact Gina Gross in the SFA Church Office at 410-235-5136. \n 
URL:https://www.archbalt.org/event/pre-cana-marriage-preparation-group-seminar/
LOCATION:St. Francis of Assisi Baltimore\, 3615 Harford Rd.\, Baltimore\, MD\, 21218\, United States
CATEGORIES:#IamCatholic,Community,Family,Marriage & Family LIfe
ATTACH;FMTTYPE=image/jpeg:https://www.archbalt.org/wp-content/uploads/2020/01/retreat-stock.jpg
ORGANIZER;CN="St.%20Francis%20of%20Assisi%20Baltimore":MAILTO:SFABalt@archbalt.org
END:VEVENT
BEGIN:VEVENT
DTSTART;TZID=America/New_York:20210426T083000
DTEND;TZID=America/New_York:20210426T140000
DTSTAMP:20260421T102143
CREATED:20210413T140106Z
LAST-MODIFIED:20210413T140241Z
UID:157019-1619425800-1619445600@www.archbalt.org
SUMMARY:Catholic High In-Person Visit Days
DESCRIPTION:The Catholic High School of Baltimore is pleased to announce a new visit opportunity for seventh-grade girls. Through our in-person Seventh Grade Visit Day\, students will experience a Theatre performance\, demonstrations from STEM (BIOMED and Engineering)\, create their own art masterpiece\, enjoy a tour of our campus\, learn about our rigorous academics\, and participate in exciting activities. \nLunch is included. Masks are required and this is a socially distanced event. Registration for a Visit Day is required and should be submitted at https://thecatholichighschool.org/admissions/7thGradeVisit \n 
URL:https://www.archbalt.org/event/catholic-high-offers-in-person-visit-days-2021-04-26/
LOCATION:The Catholic High School of Baltimore\, 2800 Edison Highway\, Baltimore\, Maryland\, 21213
CATEGORIES:#IamCatholic,Children,Community,Schools
ATTACH;FMTTYPE=image/jpeg:https://www.archbalt.org/wp-content/uploads/2021/04/dsc0220.jpeg
END:VEVENT
BEGIN:VEVENT
DTSTART;VALUE=DATE:20210424
DTEND;VALUE=DATE:20210425
DTSTAMP:20260421T102143
CREATED:20210412T140242Z
LAST-MODIFIED:20210412T140332Z
UID:157002-1619222400-1619308799@www.archbalt.org
SUMMARY:Pre-Cana Weekend at St. John Westminster
DESCRIPTION:St. John Westminster will host a Pre-Cana Weekend on April 23 and April 24. \nContact Rosalie Seeley at rosalie.seeley@verizon.net with questions about St. John’s Pre-Cana class. \nRegister at sjwest.org/marriage-family-life/
URL:https://www.archbalt.org/event/pre-cana-weekend-at-st-john-westminster-2021-04-24/
LOCATION:St. John Westminster Church\, 43 Monroe Street\, Westminster MD 21157\, MD\, 21157\, United States
CATEGORIES:#IamCatholic,Community,Family,Marriage & Family LIfe
ATTACH;FMTTYPE=image/jpeg:https://www.archbalt.org/wp-content/uploads/2020/01/retreat-stock.jpg
END:VEVENT
BEGIN:VEVENT
DTSTART;TZID=America/New_York:20210423T180000
DTEND;TZID=America/New_York:20210423T190000
DTSTAMP:20260421T102143
CREATED:20210412T134230Z
LAST-MODIFIED:20210412T134230Z
UID:156994-1619200800-1619204400@www.archbalt.org
SUMMARY:Baltimore Concert Opera in the Open Air
DESCRIPTION:Back by popular demand\, Baltimore Concert Opera will present two outdoor concerts this month\, titled BCO in the Open Air. The open-air\, bring-your-own-chair concerts will star soprano Christine Lyons\, mezzo-soprano Kate Farrar\, and bass-baritone Harold Wilson\, accompanied by pianist Joy Schreier. The concert will run 45-50 minutes and will feature an array of operatic favorites from Puccini to Tchaikvosky\, to classic musical theater hits. \nTickets are sold as “pods” which accommodate up to four people that will be placed 6-ft apart from one another. Social distancing and other safety measures will be in full effect for artists\, audiences and staff for all live BCO concerts this season.
URL:https://www.archbalt.org/event/baltimore-concert-opera-in-the-open-air-2-2021-04-23/
LOCATION:Church of the Immaculate Conception (Towson)\, 200 Ware Avenue\, Towson\, MD\, 21204\, United States
CATEGORIES:#IamCatholic,Community,Concert,Music,Online Event
ATTACH;FMTTYPE=image/jpeg:https://www.archbalt.org/wp-content/uploads/2017/04/musicheader.jpg
ORGANIZER;CN="Church%20of%20the%20Immaculate%20Conception%20%28Towson%29":MAILTO:info@theimmaculate.org
END:VEVENT
BEGIN:VEVENT
DTSTART;VALUE=DATE:20210423
DTEND;VALUE=DATE:20210424
DTSTAMP:20260421T102143
CREATED:20210412T140242Z
LAST-MODIFIED:20210412T140327Z
UID:156999-1619136000-1619222399@www.archbalt.org
SUMMARY:Pre-Cana Weekend at St. John Westminster
DESCRIPTION:St. John Westminster will host a Pre-Cana Weekend on April 23 and April 24. \nContact Rosalie Seeley at rosalie.seeley@verizon.net with questions about St. John’s Pre-Cana class. \nRegister at sjwest.org/marriage-family-life/
URL:https://www.archbalt.org/event/pre-cana-weekend-at-st-john-westminster/
LOCATION:St. John Westminster Church\, 43 Monroe Street\, Westminster MD 21157\, MD\, 21157\, United States
CATEGORIES:#IamCatholic,Community,Family,Marriage & Family LIfe
ATTACH;FMTTYPE=image/jpeg:https://www.archbalt.org/wp-content/uploads/2020/01/retreat-stock.jpg
END:VEVENT
BEGIN:VEVENT
DTSTART;TZID=America/New_York:20210422T180000
DTEND;TZID=America/New_York:20210422T190000
DTSTAMP:20260421T102143
CREATED:20210412T134230Z
LAST-MODIFIED:20210412T134230Z
UID:156992-1619114400-1619118000@www.archbalt.org
SUMMARY:Baltimore Concert Opera in the Open Air
DESCRIPTION:Back by popular demand\, Baltimore Concert Opera will present two outdoor concerts this month\, titled BCO in the Open Air. The open-air\, bring-your-own-chair concerts will star soprano Christine Lyons\, mezzo-soprano Kate Farrar\, and bass-baritone Harold Wilson\, accompanied by pianist Joy Schreier. The concert will run 45-50 minutes and will feature an array of operatic favorites from Puccini to Tchaikvosky\, to classic musical theater hits. \nTickets are sold as “pods” which accommodate up to four people that will be placed 6-ft apart from one another. Social distancing and other safety measures will be in full effect for artists\, audiences and staff for all live BCO concerts this season.
URL:https://www.archbalt.org/event/baltimore-concert-opera-in-the-open-air-2/
LOCATION:Church of the Immaculate Conception (Towson)\, 200 Ware Avenue\, Towson\, MD\, 21204\, United States
CATEGORIES:#IamCatholic,Community,Concert,Music,Online Event
ATTACH;FMTTYPE=image/jpeg:https://www.archbalt.org/wp-content/uploads/2017/04/musicheader.jpg
ORGANIZER;CN="Church%20of%20the%20Immaculate%20Conception%20%28Towson%29":MAILTO:info@theimmaculate.org
END:VEVENT
BEGIN:VEVENT
DTSTART;TZID=America/New_York:20210422T083000
DTEND;TZID=America/New_York:20210422T140000
DTSTAMP:20260421T102143
CREATED:20210413T140106Z
LAST-MODIFIED:20210413T140235Z
UID:157018-1619080200-1619100000@www.archbalt.org
SUMMARY:Catholic High In-Person Visit Days
DESCRIPTION:The Catholic High School of Baltimore is pleased to announce a new visit opportunity for seventh-grade girls. Through our in-person Seventh Grade Visit Day\, students will experience a Theatre performance\, demonstrations from STEM (BIOMED and Engineering)\, create their own art masterpiece\, enjoy a tour of our campus\, learn about our rigorous academics\, and participate in exciting activities. \nLunch is included. Masks are required and this is a socially distanced event. Registration for a Visit Day is required and should be submitted at https://thecatholichighschool.org/admissions/7thGradeVisit \n 
URL:https://www.archbalt.org/event/catholic-high-offers-in-person-visit-days-2021-04-22/
LOCATION:The Catholic High School of Baltimore\, 2800 Edison Highway\, Baltimore\, Maryland\, 21213
CATEGORIES:#IamCatholic,Children,Community,Schools
ATTACH;FMTTYPE=image/jpeg:https://www.archbalt.org/wp-content/uploads/2021/04/dsc0220.jpeg
END:VEVENT
BEGIN:VEVENT
DTSTART;TZID=America/New_York:20210415T083000
DTEND;TZID=America/New_York:20210415T140000
DTSTAMP:20260421T102143
CREATED:20210413T140106Z
LAST-MODIFIED:20210413T140230Z
UID:157015-1618475400-1618495200@www.archbalt.org
SUMMARY:Catholic High In-Person Visit Days
DESCRIPTION:The Catholic High School of Baltimore is pleased to announce a new visit opportunity for seventh-grade girls. Through our in-person Seventh Grade Visit Day\, students will experience a Theatre performance\, demonstrations from STEM (BIOMED and Engineering)\, create their own art masterpiece\, enjoy a tour of our campus\, learn about our rigorous academics\, and participate in exciting activities. \nLunch is included. Masks are required and this is a socially distanced event. Registration for a Visit Day is required and should be submitted at https://thecatholichighschool.org/admissions/7thGradeVisit \n 
URL:https://www.archbalt.org/event/catholic-high-offers-in-person-visit-days/
LOCATION:The Catholic High School of Baltimore\, 2800 Edison Highway\, Baltimore\, Maryland\, 21213
CATEGORIES:#IamCatholic,Children,Community,Schools
ATTACH;FMTTYPE=image/jpeg:https://www.archbalt.org/wp-content/uploads/2021/04/dsc0220.jpeg
END:VEVENT
BEGIN:VEVENT
DTSTART;TZID=America/New_York:20210407T123000
DTEND;TZID=America/New_York:20210407T133000
DTSTAMP:20260421T102143
CREATED:20210302T150756Z
LAST-MODIFIED:20210302T150756Z
UID:156066-1617798600-1617802200@www.archbalt.org
SUMMARY:Webinars on Flannery O’Connor and race
DESCRIPTION:Loyola University Maryland will host a series of virtual conversations\, “Public Writing/Private Perceptions: The Vexed Issues Surrounding Flannery O’Connor and Race\,” this spring. \nThe 30-minute online moderated conversations will be held via Zoom and feature scholars who will delve into Flannery O’Connor’s legacy as a writer. They will consider how scholars will continue to study and teach her work; what legacy O’Connor leaves behind; what we can learn from her work; and what lessons students can learn through this sort of thoughtful discourse. \nThe virtual conversations are all free and open to the public\, but registration is required. \n\nMarch 10: A Conversation with Hilton Als\nMarch 24: A Conversation with Alice McDermott\, COMloquium with the Karson Institute for Race\, Peace & Social Justice\nApril 7: A Conversation with Brad Gooch
URL:https://www.archbalt.org/event/webinars-on-flannery-oconnor-and-race-2021-04-07/
LOCATION:Online Event
CATEGORIES:Community,History,Lecture,Online Event,Panel,Seminar,Social Justice,Speaker
ATTACH;FMTTYPE=image/jpeg:https://www.archbalt.org/wp-content/uploads/2021/03/AP959388431947.jpg
END:VEVENT
BEGIN:VEVENT
DTSTART;TZID=America/New_York:20210324T123000
DTEND;TZID=America/New_York:20210324T133000
DTSTAMP:20260421T102144
CREATED:20210302T150756Z
LAST-MODIFIED:20210302T150756Z
UID:156065-1616589000-1616592600@www.archbalt.org
SUMMARY:Webinars on Flannery O’Connor and race
DESCRIPTION:Loyola University Maryland will host a series of virtual conversations\, “Public Writing/Private Perceptions: The Vexed Issues Surrounding Flannery O’Connor and Race\,” this spring. \nThe 30-minute online moderated conversations will be held via Zoom and feature scholars who will delve into Flannery O’Connor’s legacy as a writer. They will consider how scholars will continue to study and teach her work; what legacy O’Connor leaves behind; what we can learn from her work; and what lessons students can learn through this sort of thoughtful discourse. \nThe virtual conversations are all free and open to the public\, but registration is required. \n\nMarch 10: A Conversation with Hilton Als\nMarch 24: A Conversation with Alice McDermott\, COMloquium with the Karson Institute for Race\, Peace & Social Justice\nApril 7: A Conversation with Brad Gooch
URL:https://www.archbalt.org/event/webinars-on-flannery-oconnor-and-race-2021-03-24/
LOCATION:Online Event
CATEGORIES:Community,History,Lecture,Online Event,Panel,Seminar,Social Justice,Speaker
ATTACH;FMTTYPE=image/jpeg:https://www.archbalt.org/wp-content/uploads/2021/03/AP959388431947.jpg
END:VEVENT
BEGIN:VEVENT
DTSTART;TZID=America/New_York:20210321T200000
DTEND;TZID=America/New_York:20210321T210000
DTSTAMP:20260421T102144
CREATED:20210302T151216Z
LAST-MODIFIED:20210302T151216Z
UID:156070-1616356800-1616360400@www.archbalt.org
SUMMARY:Virtual Lenten retreat
DESCRIPTION:Join Ralph Martin on four consecutive Sundays in Lent for a live online Lenten Mission on inspiring wisdom from the greatest spiritual teachers in the Church – saints such as Therese of Lisieux\, Catherine of Siena\, John of the Cross\, Francis de Sales\, Teresa of Avila\, and more – drawing from his book The Fulfillment of All Desire .
URL:https://www.archbalt.org/event/virtual-lenten-retreat-2021-03-21/
LOCATION:Online Event
CATEGORIES:#IamCatholic,Community,Faith,Lecture,Lent,Online Event,Panel,Religious,Retreat,Seminar,Speaker
ATTACH;FMTTYPE=image/jpeg:https://www.archbalt.org/wp-content/uploads/2020/01/retreat-stock.jpg
END:VEVENT
BEGIN:VEVENT
DTSTART;TZID=America/New_York:20210314T200000
DTEND;TZID=America/New_York:20210314T210000
DTSTAMP:20260421T102144
CREATED:20210302T151216Z
LAST-MODIFIED:20210302T151216Z
UID:156069-1615752000-1615755600@www.archbalt.org
SUMMARY:Virtual Lenten retreat
DESCRIPTION:Join Ralph Martin on four consecutive Sundays in Lent for a live online Lenten Mission on inspiring wisdom from the greatest spiritual teachers in the Church – saints such as Therese of Lisieux\, Catherine of Siena\, John of the Cross\, Francis de Sales\, Teresa of Avila\, and more – drawing from his book The Fulfillment of All Desire .
URL:https://www.archbalt.org/event/virtual-lenten-retreat-2021-03-14/
LOCATION:Online Event
CATEGORIES:#IamCatholic,Community,Faith,Lecture,Lent,Online Event,Panel,Religious,Retreat,Seminar,Speaker
ATTACH;FMTTYPE=image/jpeg:https://www.archbalt.org/wp-content/uploads/2020/01/retreat-stock.jpg
END:VEVENT
BEGIN:VEVENT
DTSTART;TZID=America/New_York:20210310T123000
DTEND;TZID=America/New_York:20210310T133000
DTSTAMP:20260421T102144
CREATED:20210302T150756Z
LAST-MODIFIED:20210302T150756Z
UID:156062-1615379400-1615383000@www.archbalt.org
SUMMARY:Webinars on Flannery O’Connor and race
DESCRIPTION:Loyola University Maryland will host a series of virtual conversations\, “Public Writing/Private Perceptions: The Vexed Issues Surrounding Flannery O’Connor and Race\,” this spring. \nThe 30-minute online moderated conversations will be held via Zoom and feature scholars who will delve into Flannery O’Connor’s legacy as a writer. They will consider how scholars will continue to study and teach her work; what legacy O’Connor leaves behind; what we can learn from her work; and what lessons students can learn through this sort of thoughtful discourse. \nThe virtual conversations are all free and open to the public\, but registration is required. \n\nMarch 10: A Conversation with Hilton Als\nMarch 24: A Conversation with Alice McDermott\, COMloquium with the Karson Institute for Race\, Peace & Social Justice\nApril 7: A Conversation with Brad Gooch
URL:https://www.archbalt.org/event/webinars-on-flannery-oconnor-and-race/
LOCATION:Online Event
CATEGORIES:Community,History,Lecture,Online Event,Panel,Seminar,Social Justice,Speaker
ATTACH;FMTTYPE=image/jpeg:https://www.archbalt.org/wp-content/uploads/2021/03/AP959388431947.jpg
END:VEVENT
BEGIN:VEVENT
DTSTART;TZID=America/New_York:20210307T200000
DTEND;TZID=America/New_York:20210307T210000
DTSTAMP:20260421T102144
CREATED:20210302T151216Z
LAST-MODIFIED:20210302T151216Z
UID:156067-1615147200-1615150800@www.archbalt.org
SUMMARY:Virtual Lenten retreat
DESCRIPTION:Join Ralph Martin on four consecutive Sundays in Lent for a live online Lenten Mission on inspiring wisdom from the greatest spiritual teachers in the Church – saints such as Therese of Lisieux\, Catherine of Siena\, John of the Cross\, Francis de Sales\, Teresa of Avila\, and more – drawing from his book The Fulfillment of All Desire .
URL:https://www.archbalt.org/event/virtual-lenten-retreat/
LOCATION:Online Event
CATEGORIES:#IamCatholic,Community,Faith,Lecture,Lent,Online Event,Panel,Religious,Retreat,Seminar,Speaker
ATTACH;FMTTYPE=image/jpeg:https://www.archbalt.org/wp-content/uploads/2020/01/retreat-stock.jpg
END:VEVENT
BEGIN:VEVENT
DTSTART;TZID=America/New_York:20201210T190000
DTEND;TZID=America/New_York:20201210T200000
DTSTAMP:20260421T102144
CREATED:20201203T144416Z
LAST-MODIFIED:20201203T144416Z
UID:153607-1607626800-1607630400@www.archbalt.org
SUMMARY:Ignation Volunteer Corps Information Sessions
DESCRIPTION:Parishioners\, 55 years of age or better\, are encouraged to consider a year-long commitment to service and spirituality with the Ignatian Volunteer Corps (IVC). There is no shortage of need in the Baltimore metro region and all skills\, lovingly offered\, can be matched to the great work of one of IVC’s over 30 nonprofit partner agencies. Register at www.ivcusa.org or send an email to baltimore@ivcusa.org. (During the pandemic\, many virtual service opportunities are available)
URL:https://www.archbalt.org/event/ignation-volunteer-corps-information-sessions-2020-12-10/
LOCATION:Online Event
CATEGORIES:#IamCatholic,Charity,Community
ATTACH;FMTTYPE=image/jpeg:https://www.archbalt.org/wp-content/uploads/2020/12/IVC-cover-banner-1.jpg
ORGANIZER;CN="Ignation%20Volunteer%20Corps":MAILTO:baltimore@ivcusa.org
END:VEVENT
BEGIN:VEVENT
DTSTART;TZID=America/New_York:20201208T093000
DTEND;TZID=America/New_York:20201208T103000
DTSTAMP:20260421T102144
CREATED:20201203T144416Z
LAST-MODIFIED:20201203T144416Z
UID:153603-1607419800-1607423400@www.archbalt.org
SUMMARY:Ignation Volunteer Corps Information Sessions
DESCRIPTION:Parishioners\, 55 years of age or better\, are encouraged to consider a year-long commitment to service and spirituality with the Ignatian Volunteer Corps (IVC). There is no shortage of need in the Baltimore metro region and all skills\, lovingly offered\, can be matched to the great work of one of IVC’s over 30 nonprofit partner agencies. Register at www.ivcusa.org or send an email to baltimore@ivcusa.org. (During the pandemic\, many virtual service opportunities are available)
URL:https://www.archbalt.org/event/ignation-volunteer-corps-information-sessions/
LOCATION:Online Event
CATEGORIES:#IamCatholic,Charity,Community
ATTACH;FMTTYPE=image/jpeg:https://www.archbalt.org/wp-content/uploads/2020/12/IVC-cover-banner-1.jpg
ORGANIZER;CN="Ignation%20Volunteer%20Corps":MAILTO:baltimore@ivcusa.org
END:VEVENT
BEGIN:VEVENT
DTSTART;TZID=America/New_York:20201114T120000
DTEND;TZID=America/New_York:20201114T190000
DTSTAMP:20260421T102144
CREATED:20201027T135543Z
LAST-MODIFIED:20201027T135717Z
UID:152740-1605355200-1605380400@www.archbalt.org
SUMMARY:Christmas Bazaar
DESCRIPTION:St. Michael and St. Clement School will hold its annual Christmas Bazaar on Nov. 13 and Nov. 14 in the school courtyard. All activities will be outdoors. The theme for this year’s bazaar is the “Bizarre Bazaar” and will include: \n\n50/50 raffle\nTake-out pit BBQ\nVirtual trivia\nOnline silent auction\n\nFor more information\, contact Kaitlin Brown at kbrown@stmstc.org or by calling the school office at 410-668-8797.
URL:https://www.archbalt.org/event/christmas-bazaar-4-2020-11-14-2/
LOCATION:St. Michael–St. Clement School\, 10 Willow Ave.\, Baltimore\, Maryland
CATEGORIES:#IamCatholic,Advent,Charity,Christmas,Community,Family,Food,Games
ATTACH;FMTTYPE=image/png:https://www.archbalt.org/wp-content/uploads/2020/10/Screen-Shot-2020-10-27-at-9.52.42-AM.png
END:VEVENT
BEGIN:VEVENT
DTSTART;TZID=America/New_York:20201113T153000
DTEND;TZID=America/New_York:20201113T210000
DTSTAMP:20260421T102144
CREATED:20201027T135543Z
LAST-MODIFIED:20201027T135712Z
UID:152735-1605281400-1605301200@www.archbalt.org
SUMMARY:Christmas Bazaar
DESCRIPTION:St. Michael and St. Clement School will hold its annual Christmas Bazaar on Nov. 13 and Nov. 14 in the school courtyard. All activities will be outdoors. The theme for this year’s bazaar is the “Bizarre Bazaar” and will include: \n\n50/50 raffle\nTake-out pit BBQ\nVirtual trivia\nOnline silent auction\n\nFor more information\, contact Kaitlin Brown at kbrown@stmstc.org or by calling the school office at 410-668-8797.
URL:https://www.archbalt.org/event/christmas-bazaar-4/
LOCATION:St. Michael–St. Clement School\, 10 Willow Ave.\, Baltimore\, Maryland
CATEGORIES:#IamCatholic,Advent,Charity,Christmas,Community,Family,Food,Games
ATTACH;FMTTYPE=image/png:https://www.archbalt.org/wp-content/uploads/2020/10/Screen-Shot-2020-10-27-at-9.52.42-AM.png
END:VEVENT
BEGIN:VEVENT
DTSTART;TZID=America/New_York:20201011T080000
DTEND;TZID=America/New_York:20201011T120000
DTSTAMP:20260421T102144
CREATED:20200924T184958Z
LAST-MODIFIED:20200924T184958Z
UID:152033-1602403200-1602417600@www.archbalt.org
SUMMARY:Our Lady Queen of Peace Bake Sale
DESCRIPTION:Our Lady Queen of Peace\, Middle River\, will hold a grab and go bake sale from 3 to 5:15 p.m. Oct. 10 and from 8 a.m. to noon on Oct. 11. in the parish hall. All proceeds go to Our Lady Queen of Peace.
URL:https://www.archbalt.org/event/our-lady-queen-of-peace-bake-sale-2020-10-11/
LOCATION:Our Lady Queen of Peace\, 10003 Bird River Rd\, Middle River\, MD\, 21220\, United States
CATEGORIES:#IamCatholic,Benefit,Community,Food
ATTACH;FMTTYPE=image/jpeg:https://www.archbalt.org/wp-content/uploads/2019/05/Bingo-Header.jpg
ORGANIZER;CN="Our%20Lady%20Queen%20of%20Peace":MAILTO:oloqp@olqpmd..org
END:VEVENT
BEGIN:VEVENT
DTSTART;TZID=America/New_York:20201010T150000
DTEND;TZID=America/New_York:20201010T170000
DTSTAMP:20260421T102144
CREATED:20200924T184958Z
LAST-MODIFIED:20200924T184958Z
UID:152031-1602342000-1602349200@www.archbalt.org
SUMMARY:Our Lady Queen of Peace Bake Sale
DESCRIPTION:Our Lady Queen of Peace\, Middle River\, will hold a grab and go bake sale from 3 to 5:15 p.m. Oct. 10 and from 8 a.m. to noon on Oct. 11. in the parish hall. All proceeds go to Our Lady Queen of Peace.
URL:https://www.archbalt.org/event/our-lady-queen-of-peace-bake-sale/
LOCATION:Our Lady Queen of Peace\, 10003 Bird River Rd\, Middle River\, MD\, 21220\, United States
CATEGORIES:#IamCatholic,Benefit,Community,Food
ATTACH;FMTTYPE=image/jpeg:https://www.archbalt.org/wp-content/uploads/2019/05/Bingo-Header.jpg
ORGANIZER;CN="Our%20Lady%20Queen%20of%20Peace":MAILTO:oloqp@olqpmd..org
END:VEVENT
END:VCALENDAR