BEGIN:VCALENDAR
VERSION:2.0
PRODID:-//Archdiocese of Baltimore - ECPv5.16.3.1//NONSGML v1.0//EN
CALSCALE:GREGORIAN
METHOD:PUBLISH
X-WR-CALNAME:Archdiocese of Baltimore
X-ORIGINAL-URL:https://www.archbalt.org
X-WR-CALDESC:Events for Archdiocese of Baltimore
REFRESH-INTERVAL;VALUE=DURATION:PT1H
X-Robots-Tag:noindex
X-PUBLISHED-TTL:PT1H
BEGIN:VTIMEZONE
TZID:America/New_York
BEGIN:DAYLIGHT
TZOFFSETFROM:-0500
TZOFFSETTO:-0400
TZNAME:EDT
DTSTART:20260308T070000
END:DAYLIGHT
BEGIN:STANDARD
TZOFFSETFROM:-0400
TZOFFSETTO:-0500
TZNAME:EST
DTSTART:20261101T060000
END:STANDARD
END:VTIMEZONE
BEGIN:VEVENT
DTSTART;TZID=America/New_York:20260622T073000
DTEND;TZID=America/New_York:20260814T173000
DTSTAMP:20260422T174942
CREATED:20260129T145020Z
LAST-MODIFIED:20260129T145020Z
UID:202593-1782113400-1786728600@www.archbalt.org
SUMMARY:Clarksville Catholic Youth Camp
DESCRIPTION:Clarksville Catholic Youth Camp (CCYC) is a summer camp that seeks to foster a faith filled and joyful environment where campers and staff can encounter Jesus daily and grow in a personal and deep relationship with Him. Our camp motto is “Making Originals” which refers to a quote from St. Carlo Acutis. He said\, “Everyone is born original\, but most end up dying photocopies.” At CCYC we strive to grow into the unique and particular saints that God is calling each person to be all through exploring fun activities and having a joyful community! It is an 8 week program from June 22nd – August 14th for ages 4-12. You may register for some or all weeks. It is a choose your own adventure style with a variety of different themed camps from sports\, to outdoorsy camps\, to arts and crafts\, and performing arts.
URL:https://www.archbalt.org/event/clarksville-catholic-youth-camp/
LOCATION:St. Louis Church\, 12500 Clarksville Pike\, Clarksville\, MD 21029\, Clarksville\, MD\, 21046\, United States
CATEGORIES:Children,Youth Ministry
ATTACH;FMTTYPE=image/png:https://www.archbalt.org/wp-content/uploads/2026/01/unnamed-e1769698183157.png
ORGANIZER;CN="Pastorate%20of%20St.%20Louis%20and%20St.%20Francis":MAILTO:lpalting@stlouisparish.org
END:VEVENT
END:VCALENDAR