BEGIN:VCALENDAR
VERSION:2.0
PRODID:-//Archdiocese of Baltimore - ECPv5.16.3.1//NONSGML v1.0//EN
CALSCALE:GREGORIAN
METHOD:PUBLISH
X-ORIGINAL-URL:https://www.archbalt.org
X-WR-CALDESC:Events for Archdiocese of Baltimore
REFRESH-INTERVAL;VALUE=DURATION:PT1H
X-Robots-Tag:noindex
X-PUBLISHED-TTL:PT1H
BEGIN:VTIMEZONE
TZID:America/New_York
BEGIN:DAYLIGHT
TZOFFSETFROM:-0500
TZOFFSETTO:-0400
TZNAME:EDT
DTSTART:20210314T070000
END:DAYLIGHT
BEGIN:STANDARD
TZOFFSETFROM:-0400
TZOFFSETTO:-0500
TZNAME:EST
DTSTART:20211107T060000
END:STANDARD
END:VTIMEZONE
BEGIN:VEVENT
DTSTART;TZID=America/New_York:20210725T140000
DTEND;TZID=America/New_York:20210725T180000
DTSTAMP:20260425T063908
CREATED:20210422T144449Z
LAST-MODIFIED:20210505T152815Z
UID:157229-1627221600-1627236000@www.archbalt.org
SUMMARY:Pre-Cana marriage preparation group seminar
DESCRIPTION:St. Francis of Assisi in Baltimore is holding pre-cana marriage preparation seminars. Both sessions are required.  The cost is $100 per couple.  Couples can download a copy of the registration form at https://www.sfabalt.org/\nIf you have questions\, please contact Gina Gross in the SFA Church Office at 410-235-5136. \n 
URL:https://www.archbalt.org/event/pre-cana-marriage-preparation-group-seminar-2021-07-25/
LOCATION:St. Francis of Assisi Baltimore\, 3615 Harford Rd.\, Baltimore\, MD\, 21218\, United States
CATEGORIES:#IamCatholic,Community,Family,Marriage & Family LIfe
ATTACH;FMTTYPE=image/jpeg:https://www.archbalt.org/wp-content/uploads/2020/01/retreat-stock.jpg
ORGANIZER;CN="St.%20Francis%20of%20Assisi%20Baltimore":MAILTO:SFABalt@archbalt.org
END:VEVENT
END:VCALENDAR